BEGIN:VCALENDAR
VERSION:2.0
PRODID:-//ಅಭಿನವ ಮಂತ್ರಾಲಯ | Abhinava Mantralaya - ECPv6.15.11//NONSGML v1.0//EN
CALSCALE:GREGORIAN
METHOD:PUBLISH
X-WR-CALNAME:ಅಭಿನವ ಮಂತ್ರಾಲಯ | Abhinava Mantralaya
X-ORIGINAL-URL:http://www.abhinavamantralaya.com
X-WR-CALDESC:Events for ಅಭಿನವ ಮಂತ್ರಾಲಯ | Abhinava Mantralaya
REFRESH-INTERVAL;VALUE=DURATION:PT1H
X-Robots-Tag:noindex
X-PUBLISHED-TTL:PT1H
BEGIN:VTIMEZONE
TZID:UTC
BEGIN:STANDARD
TZOFFSETFROM:+0000
TZOFFSETTO:+0000
TZNAME:UTC
DTSTART:20180101T000000
END:STANDARD
END:VTIMEZONE
BEGIN:VEVENT
DTSTART;VALUE=DATE:20240820
DTEND;VALUE=DATE:20240823
DTSTAMP:20260423T173435
CREATED:20240807T110659Z
LAST-MODIFIED:20240807T110659Z
UID:384-1724112000-1724371199@www.abhinavamantralaya.com
SUMMARY:353st Aradhana Mahostava 2024
DESCRIPTION:
URL:http://www.abhinavamantralaya.com/event/353st-aradhana-mahostava-2024/
LOCATION:Abhinava Mantralaya\, Karnataka\, India
CATEGORIES:Aradhana,Festival,General
ATTACH;FMTTYPE=image/jpeg:http://www.abhinavamantralaya.com/wp-content/uploads/2024/08/Aaradhane-invitation-2-1.jpg
END:VEVENT
BEGIN:VEVENT
DTSTART;VALUE=DATE:20210314
DTEND;VALUE=DATE:20210316
DTSTAMP:20260423T173435
CREATED:20210312T132046Z
LAST-MODIFIED:20210312T132047Z
UID:242-1615680000-1615852799@www.abhinavamantralaya.com
SUMMARY:Inauguration of the new temple and Pratistapane of Sri Satyanarayana Devaru\, Pranadevaru and Navagraha Devategalu
DESCRIPTION:Inauguration of the new temple and Pratistapane of Sri Satyanarayana Devaru\, Pranadevaru and Navagraha Devategalu on 15-03-2021 at Sri Raghavendra Swamigala Brindavana Sannidana (Abhinava Mandalay)\, Ramaiyer road\, Krishnamurthypuram\, Mysuru.
URL:http://www.abhinavamantralaya.com/event/inauguration-of-the-new-temple-and-pratistapane-of-sri-satyanarayana-devaru-pranadevaru-and-navagraha-devategalu/
LOCATION:Abhinava Mantralaya\, Karnataka\, India
CATEGORIES:General
ATTACH;FMTTYPE=image/jpeg:http://www.abhinavamantralaya.com/wp-content/uploads/2021/03/abhinava-temple.jpg
END:VEVENT
BEGIN:VEVENT
DTSTART;VALUE=DATE:20200426
DTEND;VALUE=DATE:20200427
DTSTAMP:20260423T173435
CREATED:20200424T104942Z
LAST-MODIFIED:20200424T104942Z
UID:172-1587859200-1587945599@www.abhinavamantralaya.com
SUMMARY:GANDHALEPANA SEVA for AKSHAYA TRITHIYA
DESCRIPTION:GANDHALEPANA SEVA for AKSHAYA TRITHIYA (April 26th 2020) \nGANDHALEPANA SEVA for AKSHAYA TRITHIYA\n 
URL:http://www.abhinavamantralaya.com/event/gandhalepana-seva-for-akshaya-trithiya/
LOCATION:Abhinava Mantralaya\, Karnataka\, India
CATEGORIES:General
ATTACH;FMTTYPE=image/jpeg:http://www.abhinavamantralaya.com/wp-content/uploads/2020/04/gandha-lepana-03.jpg
END:VEVENT
BEGIN:VEVENT
DTSTART;VALUE=DATE:20200126
DTEND;VALUE=DATE:20200204
DTSTAMP:20260423T173435
CREATED:20200128T054533Z
LAST-MODIFIED:20200128T054533Z
UID:150-1579996800-1580774399@www.abhinavamantralaya.com
SUMMARY:Madhvanavami Celebrations
DESCRIPTION:
URL:http://www.abhinavamantralaya.com/event/madhvanavami-celebrations/
LOCATION:Abhinava Mantralaya\, Karnataka\, India
CATEGORIES:General
END:VEVENT
BEGIN:VEVENT
DTSTART;VALUE=DATE:20190814
DTEND;VALUE=DATE:20190816
DTSTAMP:20260423T173435
CREATED:20190813T061322Z
LAST-MODIFIED:20190813T061322Z
UID:121-1565740800-1565913599@www.abhinavamantralaya.com
SUMMARY:Upakarma 2019
DESCRIPTION:Abhinava Mantralaya\, Sri Raghavendra Swamy Math\, Krishnamurthpuram\, Mysore has organised Rigveda Upakarma on Aug.14 at 6.30am and Yajurveda Upakarma on Aug.15 at 7 am at the Math premise.
URL:http://www.abhinavamantralaya.com/event/upakarma-2019/
LOCATION:Karnataka
CATEGORIES:General
END:VEVENT
BEGIN:VEVENT
DTSTART;TZID=UTC:20190812T183000
DTEND;TZID=UTC:20190818T193000
DTSTAMP:20260423T173435
CREATED:20190813T061556Z
LAST-MODIFIED:20190813T061556Z
UID:124-1565634600-1566156600@www.abhinavamantralaya.com
SUMMARY:Discourse on "Sri Raghavendra Vijaya"
DESCRIPTION:Discourse on “Sri Raghavendra Vijaya” by Sri Raghavendra Acharya from 12th Aug 2019 at 6.30 pm at the Math Premise.
URL:http://www.abhinavamantralaya.com/event/discourse-on-sri-raghavendra-vijaya/
LOCATION:Karnataka
CATEGORIES:General
END:VEVENT
END:VCALENDAR