BEGIN:VCALENDAR
VERSION:2.0
PRODID:-//ಅಭಿನವ ಮಂತ್ರಾಲಯ | Abhinava Mantralaya - ECPv6.15.11//NONSGML v1.0//EN
CALSCALE:GREGORIAN
METHOD:PUBLISH
X-WR-CALNAME:ಅಭಿನವ ಮಂತ್ರಾಲಯ | Abhinava Mantralaya
X-ORIGINAL-URL:http://www.abhinavamantralaya.com
X-WR-CALDESC:Events for ಅಭಿನವ ಮಂತ್ರಾಲಯ | Abhinava Mantralaya
REFRESH-INTERVAL;VALUE=DURATION:PT1H
X-Robots-Tag:noindex
X-PUBLISHED-TTL:PT1H
BEGIN:VTIMEZONE
TZID:UTC
BEGIN:STANDARD
TZOFFSETFROM:+0000
TZOFFSETTO:+0000
TZNAME:UTC
DTSTART:20200101T000000
END:STANDARD
END:VTIMEZONE
BEGIN:VEVENT
DTSTART;VALUE=DATE:20250810
DTEND;VALUE=DATE:20250913
DTSTAMP:20260423T173635
CREATED:20250731T080719Z
LAST-MODIFIED:20250731T080719Z
UID:445-1754784000-1757721599@www.abhinavamantralaya.com
SUMMARY:354th Aradhana Mahostava 2025
DESCRIPTION:ಅಭಿನವ ಮಂತ್ರಾಲಯ\, ಶ್ರೀ ರಾಘವೇಂದ್ರ ಸ್ವಾಮಿಗಳ ಮಠ\, ಕೃಷ್ಣಮೂತಿ೯ಪುರಂ\, ಮೈಸೂರು. ದಿನಾಂಕ 10/08/2025 ರಿಂದ 12/08/2025ರವರೆಗೆ ರಾಘವೇಂದ್ರ ಸ್ವಾಮಿಗಳ ೩೫೪ನೇ ಆರಾಧನಾ ಮಹೋತ್ಸವ ಮತ್ತು ಶ್ರೀ ಮಠದಲ್ಲಿ ನಡೆಯುತ್ತಿರುವ ೭೮ನೇ ಆರಾಧನಾ ಮಹೋತ್ಸವ ಆಗಿದ್ದು ಭಗವದ್ಭಕ್ತರು ಭಾಗವಹಿಸಿ ಗುರುಗಳ ಅನುಗ್ರಹಕ್ಕೆ ಪಾತ್ರರಾಗಲು ಕೋರಿದೆ \nThe 354th Aradhana Mahotsava of Sri Guru Raghavendra Swamigalu will be celebrated on 10\,th\, 11th and 12th August 2025 at Abhinava Mantralaya\, SRS Math\, Krishnamurthypuram\, Mysore. All are cordially invited.
URL:http://www.abhinavamantralaya.com/event/354th-aradhana-mahostava-2025/
LOCATION:Abhinava Mantralaya\, Karnataka\, India
CATEGORIES:Aradhana,Festival
ATTACH;FMTTYPE=image/jpeg:http://www.abhinavamantralaya.com/wp-content/uploads/2025/07/aaradhane-1-2025.jpg
END:VEVENT
BEGIN:VEVENT
DTSTART;VALUE=DATE:20240820
DTEND;VALUE=DATE:20240823
DTSTAMP:20260423T173635
CREATED:20240807T110659Z
LAST-MODIFIED:20240807T110659Z
UID:384-1724112000-1724371199@www.abhinavamantralaya.com
SUMMARY:353st Aradhana Mahostava 2024
DESCRIPTION:
URL:http://www.abhinavamantralaya.com/event/353st-aradhana-mahostava-2024/
LOCATION:Abhinava Mantralaya\, Karnataka\, India
CATEGORIES:Aradhana,Festival,General
ATTACH;FMTTYPE=image/jpeg:http://www.abhinavamantralaya.com/wp-content/uploads/2024/08/Aaradhane-invitation-2-1.jpg
END:VEVENT
BEGIN:VEVENT
DTSTART;VALUE=DATE:20220812
DTEND;VALUE=DATE:20220815
DTSTAMP:20260423T173635
CREATED:20220802T164655Z
LAST-MODIFIED:20220802T164655Z
UID:335-1660262400-1660521599@www.abhinavamantralaya.com
SUMMARY:351st Aradhana Mahostava 2022
DESCRIPTION:The 351st Aradhana Mahotsava of Sri Guru Raghavendra Swamigalu will be celebrated om August 12th\, 13th and 14th of August 2022 at Abhinava Mantralaya )SRS Math\, Krishnamurthypuram\, Mysore). All are cordially invited.\n  \n 
URL:http://www.abhinavamantralaya.com/event/351st-aradhana-mahostava-2022/
LOCATION:Abhinava Mantralaya\, Karnataka\, India
CATEGORIES:Aradhana,Festival
END:VEVENT
BEGIN:VEVENT
DTSTART;VALUE=DATE:20210823
DTEND;VALUE=DATE:20210826
DTSTAMP:20260423T173635
CREATED:20210818T043025Z
LAST-MODIFIED:20210818T043025Z
UID:259-1629676800-1629935999@www.abhinavamantralaya.com
SUMMARY:350th Araddhana Mahothsava - 23\, 24\, 25th August 2021
DESCRIPTION:
URL:http://www.abhinavamantralaya.com/event/350th-araddhana-mahothsava-23-24-25th-august-2021/
LOCATION:Abhinava Mantralaya\, Karnataka\, India
CATEGORIES:Aradhana,Festival
END:VEVENT
END:VCALENDAR